BEGIN:VCALENDAR
VERSION:2.0
PRODID:-//hacksw/handcal//NONSGML v1.0//EN
CALSCALE:GREGORIAN
BEGIN:VEVENT
LOCATION:Cabarrus Brewing Company\, 329 McGill Ave NW\, Concord\, NC
DESCRIPTION:https://www.charlotteonthecheap.com/event/concord-micro-con/
DTSTART;TZID=America/New_York:20260502T110000
DTEND;TZID=America/New_York:20260502T170000
SUMMARY:Concord Micro-Con
URL;VALUE=URI:https://www.charlotteonthecheap.com/event/concord-micro-con/
DTSTAMP:20260419T132749
UID:69e510959a5a6
END:VEVENT
END:VCALENDAR