BEGIN:VCALENDAR
VERSION:2.0
PRODID:-//hacksw/handcal//NONSGML v1.0//EN
CALSCALE:GREGORIAN
BEGIN:VEVENT
LOCATION:First Baptist Church West\, 1801 Oaklawn Ave\, Charlotte\, NC
DESCRIPTION:https://www.charlotteonthecheap.com/event/delta-sigma-theta-community-day/
DTSTART;TZID=America/New_York:20260502T090000
DTEND;TZID=America/New_York:20260502T130000
SUMMARY:19th Annual Community Day with Delta Sigma Theta Sorority Incorporated
URL;VALUE=URI:https://www.charlotteonthecheap.com/event/delta-sigma-theta-community-day/
DTSTAMP:20260425T173012
UID:69ed326477f66
END:VEVENT
END:VCALENDAR