BEGIN:VCALENDAR
VERSION:2.0
PRODID:-//hacksw/handcal//NONSGML v1.0//EN
CALSCALE:GREGORIAN
BEGIN:VEVENT
LOCATION:Percent Tap House\, Harrisburg\, 4250 Main Street\, Harrisburg\, NC
DESCRIPTION:https://www.charlotteonthecheap.com/event/percent-tap-house-harrisburg-4/
DTSTART;TZID=America/New_York:20260628T170000
DTEND;TZID=America/New_York:20260628T190000
SUMMARY:Broadway Themed Trivia
URL;VALUE=URI:https://www.charlotteonthecheap.com/event/percent-tap-house-harrisburg-4/
DTSTAMP:20260425T122104
UID:69ece9f0b1111
END:VEVENT
END:VCALENDAR