BEGIN:VCALENDAR
VERSION:2.0
PRODID:-//hacksw/handcal//NONSGML v1.0//EN
CALSCALE:GREGORIAN
BEGIN:VEVENT
LOCATION:Park Road Park\, 6220 Park Road\, Charlotte\, NC
DESCRIPTION:https://www.charlotteonthecheap.com/event/meck-sounds/
DTSTART;TZID=America/New_York:20260820T190000
DTEND;TZID=America/New_York:20260820T210000
SUMMARY:Meck Sounds: Boz Biz Band
URL;VALUE=URI:https://www.charlotteonthecheap.com/event/meck-sounds/
DTSTAMP:20260424T005512
UID:69eaf7b02ce8c
END:VEVENT
END:VCALENDAR