BEGIN:VCALENDAR
VERSION:2.0
PRODID:-//hacksw/handcal//NONSGML v1.0//EN
CALSCALE:GREGORIAN
BEGIN:VEVENT
LOCATION:Pearl Street Park\, 1200 Baxter Drive\, Charlotte\, NC
DESCRIPTION:https://www.charlotteonthecheap.com/event/meck-sounds-4/
DTSTART;TZID=America/New_York:20260716T190000
DTEND;TZID=America/New_York:20260716T210000
SUMMARY:Meck Sounds: The Hitmen Party Band
URL;VALUE=URI:https://www.charlotteonthecheap.com/event/meck-sounds-4/
DTSTAMP:20260423T233126
UID:69eae40eb6834
END:VEVENT
END:VCALENDAR