BEGIN:VCALENDAR
VERSION:2.0
PRODID:-//hacksw/handcal//NONSGML v1.0//EN
CALSCALE:GREGORIAN
BEGIN:VEVENT
LOCATION:Eastway Recreation Center\, 3150 Eastway Park Drive\, Charlotte\, NC
DESCRIPTION:https://www.charlotteonthecheap.com/event/meck-sounds-3/
DTSTART;TZID=America/New_York:20260618T190000
DTEND;TZID=America/New_York:20260618T210000
SUMMARY:Meck Sounds: The Sound
URL;VALUE=URI:https://www.charlotteonthecheap.com/event/meck-sounds-3/
DTSTAMP:20260423T201421
UID:69eab5ddae715
END:VEVENT
END:VCALENDAR