BEGIN:VCALENDAR
VERSION:2.0
PRODID:-//hacksw/handcal//NONSGML v1.0//EN
CALSCALE:GREGORIAN
BEGIN:VEVENT
LOCATION:Ramsey Creek Park\, Cornelius\, 18441 Nantz Rd\, Cornelius\, NC
DESCRIPTION:https://www.charlotteonthecheap.com/event/meck-sounds-2/
DTSTART;TZID=America/New_York:20260521T190000
DTEND;TZID=America/New_York:20260521T210000
SUMMARY:Meck Sounds: BlackWater Band
URL;VALUE=URI:https://www.charlotteonthecheap.com/event/meck-sounds-2/
DTSTAMP:20260424T034716
UID:69eb2004caea1
END:VEVENT
END:VCALENDAR