BEGIN:VCALENDAR
VERSION:2.0
PRODID:-//hacksw/handcal//NONSGML v1.0//EN
CALSCALE:GREGORIAN
BEGIN:VEVENT
LOCATION:Pike Nurseries\, multiple locations
DESCRIPTION:https://www.charlotteonthecheap.com/event/ladybug-weekend-pike-nurseries/
DTSTART;TZID=America/New_York:20260424T000000
DTEND;TZID=America/New_York:20260424T000000
SUMMARY:Ladybug Weekend: Get free ladybugs with any purchase\, while supplies last
URL;VALUE=URI:https://www.charlotteonthecheap.com/event/ladybug-weekend-pike-nurseries/
DTSTAMP:20260422T194745
UID:69e95e21e7b3d
END:VEVENT
END:VCALENDAR