BEGIN:VCALENDAR
VERSION:2.0
PRODID:-//hacksw/handcal//NONSGML v1.0//EN
CALSCALE:GREGORIAN
BEGIN:VEVENT
LOCATION:Village Park\, Kannapolis\, 700 West C Street\, Kannapolis\, NC
DESCRIPTION:https://www.charlotteonthecheap.com/event/kannapolis-earth-day/
DTSTART;TZID=America/New_York:20260425T100000
DTEND;TZID=America/New_York:20260425T120000
SUMMARY:Kannapolis Earth Day Celebration
URL;VALUE=URI:https://www.charlotteonthecheap.com/event/kannapolis-earth-day/
DTSTAMP:20260422T195529
UID:69e95ff14fd8f
END:VEVENT
END:VCALENDAR