BEGIN:VCALENDAR
VERSION:2.0
PRODID:-//hacksw/handcal//NONSGML v1.0//EN
CALSCALE:GREGORIAN
BEGIN:VEVENT
LOCATION:Heist Brewery & Barrel Arts\, 1030 Woodward Avenue\, Charlotte\, NC
DESCRIPTION:https://www.charlotteonthecheap.com/event/khmer-fest/
DTSTART;TZID=America/New_York:20260430T180000
DTEND;TZID=America/New_York:20260430T210000
SUMMARY:Khmer Fest: Celebrate Cambodian Heritage
URL;VALUE=URI:https://www.charlotteonthecheap.com/event/khmer-fest/
DTSTAMP:20260422T024556
UID:69e86ea46feb6
END:VEVENT
END:VCALENDAR