BEGIN:VCALENDAR
VERSION:2.0
PRODID:-//hacksw/handcal//NONSGML v1.0//EN
CALSCALE:GREGORIAN
BEGIN:VEVENT
LOCATION:Creative Perspectives\, PLLC (Mt. Holly)\, 1010 S Main Street\, Carrboro\, NC
DESCRIPTION:https://www.charlotteonthecheap.com/event/world-labyrinth-day-creative-perspectives/
DTSTART;TZID=America/New_York:20260502T110000
DTEND;TZID=America/New_York:20260502T130000
SUMMARY:World Labyrinth Day at Creative Perspectives in Mt. Holly -- help co-create a labyrinth
URL;VALUE=URI:https://www.charlotteonthecheap.com/event/world-labyrinth-day-creative-perspectives/
DTSTAMP:20260422T025235
UID:69e87033d5921
END:VEVENT
END:VCALENDAR