BEGIN:VCALENDAR
VERSION:2.0
PRODID:-//hacksw/handcal//NONSGML v1.0//EN
CALSCALE:GREGORIAN
BEGIN:VEVENT
LOCATION:Myers Park Presbyterian Church Outreach Center\, 1073 Providence Road\, Charlotte\, NC
DESCRIPTION:https://www.charlotteonthecheap.com/event/consignment-sale-myers-park-presbyterian-church/
DTSTART;TZID=America/New_York:20260425T080000
DTEND;TZID=America/New_York:20260425T143000
SUMMARY:Myers Park Presbyterian Church's Children's Consignment Sale (break between 11:30 a.m. and 12:30 p.m.)
URL;VALUE=URI:https://www.charlotteonthecheap.com/event/consignment-sale-myers-park-presbyterian-church/
DTSTAMP:20260420T193645
UID:69e6b88d3fb96
END:VEVENT
END:VCALENDAR