BEGIN:VCALENDAR
VERSION:2.0
PRODID:-//hacksw/handcal//NONSGML v1.0//EN
CALSCALE:GREGORIAN
BEGIN:VEVENT
LOCATION:The Little Studio\, 3432a The Plaza\, Charlotte\, NC
DESCRIPTION:https://www.charlotteonthecheap.com/event/little-studio/
DTSTART;TZID=America/New_York:20260502T120000
DTEND;TZID=America/New_York:20260502T200000
SUMMARY:Open House at Little Studio: demos\, pottery market\, more...
URL;VALUE=URI:https://www.charlotteonthecheap.com/event/little-studio/
DTSTAMP:20260421T010428
UID:69e7055cc042d
END:VEVENT
END:VCALENDAR