BEGIN:VCALENDAR
VERSION:2.0
PRODID:-//hacksw/handcal//NONSGML v1.0//EN
CALSCALE:GREGORIAN
BEGIN:VEVENT
LOCATION:AAA Therapeutic Farm\, 1017 Little Rock Rd\, Charlotte\, NC
DESCRIPTION:https://www.charlotteonthecheap.com/event/earth-day-aaa-therapeutic-farm/
DTSTART;TZID=America/New_York:20260425T120000
DTEND;TZID=America/New_York:20260425T170000
SUMMARY:Earth Day Celebration
URL;VALUE=URI:https://www.charlotteonthecheap.com/event/earth-day-aaa-therapeutic-farm/
DTSTAMP:20260419T220045
UID:69e588cd0ee78
END:VEVENT
END:VCALENDAR