BEGIN:VCALENDAR
VERSION:2.0
PRODID:-//hacksw/handcal//NONSGML v1.0//EN
CALSCALE:GREGORIAN
BEGIN:VEVENT
LOCATION:Galilee Center\, 3601 Central Avenue\, Charlotte\, NC
DESCRIPTION:https://www.charlotteonthecheap.com/event/really-really-free-market-clt/
DTSTART;TZID=America/New_York:20260523T130000
DTEND;TZID=America/New_York:20260523T160000
SUMMARY:Really Really Free Market
URL;VALUE=URI:https://www.charlotteonthecheap.com/event/really-really-free-market-clt/
DTSTAMP:20260421T103249
UID:69e78a910e5df
END:VEVENT
END:VCALENDAR