BEGIN:VCALENDAR
VERSION:2.0
PRODID:-//hacksw/handcal//NONSGML v1.0//EN
CALSCALE:GREGORIAN
BEGIN:VEVENT
LOCATION:Percent Tap House\, Harrisburg\, 4250 Main Street\, Harrisburg\, NC
DESCRIPTION:https://www.charlotteonthecheap.com/event/percent-tap-house-harrisburg-2/
DTSTART;TZID=America/New_York:20260531T170000
DTEND;TZID=America/New_York:20260531T190000
SUMMARY:Star Wars Themed Trivia
URL;VALUE=URI:https://www.charlotteonthecheap.com/event/percent-tap-house-harrisburg-2/
DTSTAMP:20260425T121633
UID:69ece8e198d53
END:VEVENT
END:VCALENDAR