BEGIN:VCALENDAR
VERSION:2.0
PRODID:-//hacksw/handcal//NONSGML v1.0//EN
CALSCALE:GREGORIAN
BEGIN:VEVENT
LOCATION:Waymer Park\, Huntersville\, 14200 Holbrooks Road\, Huntersville\, NC
DESCRIPTION:https://www.charlotteonthecheap.com/event/charlotte-cirque-dance-center-2/
DTSTART;TZID=America/New_York:20260426T120000
DTEND;TZID=America/New_York:20260426T160000
SUMMARY:International Circus & Dance Celebration
URL;VALUE=URI:https://www.charlotteonthecheap.com/event/charlotte-cirque-dance-center-2/
DTSTAMP:20260419T090310
UID:69e4d28e1806a
END:VEVENT
END:VCALENDAR