BEGIN:VCALENDAR
VERSION:2.0
PRODID:-//hacksw/handcal//NONSGML v1.0//EN
CALSCALE:GREGORIAN
BEGIN:VEVENT
LOCATION:Percent Tap House\, Harrisburg\, 4250 Main Street\, Harrisburg\, NC
DESCRIPTION:https://www.charlotteonthecheap.com/event/percent-tap-house-harrisburg/
DTSTART;TZID=America/New_York:20260426T170000
DTEND;TZID=America/New_York:20260426T190000
SUMMARY:The Office Themed Trivia
URL;VALUE=URI:https://www.charlotteonthecheap.com/event/percent-tap-house-harrisburg/
DTSTAMP:20260425T122226
UID:69ecea4225905
END:VEVENT
END:VCALENDAR