BEGIN:VCALENDAR
VERSION:2.0
PRODID:-//hacksw/handcal//NONSGML v1.0//EN
CALSCALE:GREGORIAN
BEGIN:VEVENT
LOCATION:Cabarrus Brewing Company\, 329 McGill Ave NW\, Concord\, NC
DESCRIPTION:https://www.charlotteonthecheap.com/event/live-music-at-cabarrus-brewing-company-2/
DTSTART;TZID=America/New_York:20260425T110000
DTEND;TZID=America/New_York:20260425T170000
SUMMARY:CBC SpringFest Craft Vendor Market
URL;VALUE=URI:https://www.charlotteonthecheap.com/event/live-music-at-cabarrus-brewing-company-2/
DTSTAMP:20260422T014145
UID:69e85f99be974
END:VEVENT
END:VCALENDAR