BEGIN:VCALENDAR
VERSION:2.0
PRODID:-//hacksw/handcal//NONSGML v1.0//EN
CALSCALE:GREGORIAN
BEGIN:VEVENT
LOCATION:Nickyo's Rodeo\, 120 W Bland Street\, Charlotte\, NC
DESCRIPTION:https://www.charlotteonthecheap.com/event/nickyos-rodeo/
DTSTART;TZID=America/New_York:20260510T140000
DTEND;TZID=America/New_York:20260510T150000
SUMMARY:Free Mother's Day Line Dancing Class
URL;VALUE=URI:https://www.charlotteonthecheap.com/event/nickyos-rodeo/
DTSTAMP:20260425T144708
UID:69ed0c2c95214
END:VEVENT
END:VCALENDAR