BEGIN:VCALENDAR
VERSION:2.0
PRODID:-//hacksw/handcal//NONSGML v1.0//EN
CALSCALE:GREGORIAN
BEGIN:VEVENT
LOCATION:University City Regional Library (new location)\, 5528 Waters Edge Village Drive\, Charlotte
DESCRIPTION:https://www.charlotteonthecheap.com/event/international-game-fair-charlotte-mecklenburg-library/
DTSTART;TZID=America/New_York:20260501T180000
DTEND;TZID=America/New_York:20260501T203000
SUMMARY:International Games Fair
URL;VALUE=URI:https://www.charlotteonthecheap.com/event/international-game-fair-charlotte-mecklenburg-library/
DTSTAMP:20260421T045358
UID:69e73b2640b66
END:VEVENT
END:VCALENDAR