BEGIN:VCALENDAR
VERSION:2.0
PRODID:-//hacksw/handcal//NONSGML v1.0//EN
CALSCALE:GREGORIAN
BEGIN:VEVENT
LOCATION:Berewick Recreation Center\, 5910 Dixie River Road\, Charlotte\, NC
DESCRIPTION:https://www.charlotteonthecheap.com/event/charlotte-cirque-dance-center/
DTSTART;TZID=America/New_York:20260425T120000
DTEND;TZID=America/New_York:20260425T160000
SUMMARY:International Circus & Dance Celebration
URL;VALUE=URI:https://www.charlotteonthecheap.com/event/charlotte-cirque-dance-center/
DTSTAMP:20260419T090252
UID:69e4d27cbfa90
END:VEVENT
END:VCALENDAR