BEGIN:VCALENDAR
VERSION:2.0
PRODID:-//hacksw/handcal//NONSGML v1.0//EN
CALSCALE:GREGORIAN
BEGIN:VEVENT
LOCATION:McLawland Farms\, 8632 Reedy Creek Road\, Charlotte\, NC
DESCRIPTION:https://www.charlotteonthecheap.com/event/a-friday-night-thing-mclawland-farms/
DTSTART;TZID=America/New_York:20260424T170000
DTEND;TZID=America/New_York:20260424T210000
SUMMARY:A Friday Night Thing at McLawland Farms: Campfire\, music\, more ($10 for parking)
URL;VALUE=URI:https://www.charlotteonthecheap.com/event/a-friday-night-thing-mclawland-farms/
DTSTAMP:20260420T000652
UID:69e5a65c60b3c
END:VEVENT
END:VCALENDAR