BEGIN:VCALENDAR
VERSION:2.0
PRODID:-//hacksw/handcal//NONSGML v1.0//EN
CALSCALE:GREGORIAN
BEGIN:VEVENT
LOCATION:Smelly Cat Coffee House\, 514 E 36th St\, Charlotte\, NC
DESCRIPTION:https://www.charlotteonthecheap.com/event/noda-history-walk/
DTSTART;TZID=America/New_York:20260502T100000
DTEND;TZID=America/New_York:20260502T110000
SUMMARY:NoDa History Tour
URL;VALUE=URI:https://www.charlotteonthecheap.com/event/noda-history-walk/
DTSTAMP:20260421T132302
UID:69e7b27637cb2
END:VEVENT
END:VCALENDAR