BEGIN:VCALENDAR
VERSION:2.0
PRODID:-//hacksw/handcal//NONSGML v1.0//EN
CALSCALE:GREGORIAN
BEGIN:VEVENT
LOCATION:Kings Mountain Historical Museum\, 100 E Mountain St\, Kings Mountain\, NC
DESCRIPTION:https://www.charlotteonthecheap.com/event/kings-mountain-historical-museum-living-history/
DTSTART;TZID=America/New_York:20260509T100000
DTEND;TZID=America/New_York:20260509T160000
SUMMARY:World War 2 Living History Day at Kings Mountain Historical Museum
URL;VALUE=URI:https://www.charlotteonthecheap.com/event/kings-mountain-historical-museum-living-history/
DTSTAMP:20260421T180608
UID:69e7f4d0c780a
END:VEVENT
END:VCALENDAR