BEGIN:VCALENDAR
VERSION:2.0
PRODID:-//hacksw/handcal//NONSGML v1.0//EN
CALSCALE:GREGORIAN
BEGIN:VEVENT
LOCATION:Ballantyne's Backyard\, 11611 N. Community House Road\, Charlotte\, NC
DESCRIPTION:https://www.charlotteonthecheap.com/event/beer-bourbon-bbq-festival/
DTSTART;TZID=America/New_York:20260509T140000
DTEND;TZID=America/New_York:20260509T180000
SUMMARY:Beer\, Bourbon & BBQ Festival (20% discount available)
URL;VALUE=URI:https://www.charlotteonthecheap.com/event/beer-bourbon-bbq-festival/
DTSTAMP:20260422T152105
UID:69e91fa108ecb
END:VEVENT
END:VCALENDAR