BEGIN:VCALENDAR
VERSION:2.0
PRODID:-//hacksw/handcal//NONSGML v1.0//EN
CALSCALE:GREGORIAN
BEGIN:VEVENT
LOCATION:Providence United Methodist Church\, 2810 Providence Road\, Charlotte\, NC
DESCRIPTION:https://www.charlotteonthecheap.com/event/providence-chamber-music-recital-series-2/
DTSTART;TZID=America/New_York:20260517T183000
DTEND;TZID=America/New_York:20260517T235900
SUMMARY:Providence Chamber Music Recital Series: Spring Sing
URL;VALUE=URI:https://www.charlotteonthecheap.com/event/providence-chamber-music-recital-series-2/
DTSTAMP:20260419T104340
UID:69e4ea1cb4d73
END:VEVENT
END:VCALENDAR