BEGIN:VCALENDAR
VERSION:2.0
PRODID:-//hacksw/handcal//NONSGML v1.0//EN
CALSCALE:GREGORIAN
BEGIN:VEVENT
LOCATION:Providence United Methodist Church\, 2810 Providence Road\, Charlotte\, NC
DESCRIPTION:https://www.charlotteonthecheap.com/event/providence-chamber-music-recital-series/
DTSTART;TZID=America/New_York:20260426T193000
DTEND;TZID=America/New_York:20260426T235900
SUMMARY:Providence Chamber Music Recital Series:  Brahms Not Bombs
URL;VALUE=URI:https://www.charlotteonthecheap.com/event/providence-chamber-music-recital-series/
DTSTAMP:20260419T105014
UID:69e4eba6e47cc
END:VEVENT
END:VCALENDAR